BEGIN:VCALENDAR
VERSION:2.0
PRODID:-//ChamberMaster//Event Calendar 2.0//EN
METHOD:PUBLISH
X-PUBLISHED-TTL:P3D
REFRESH-INTERVAL:P3D
CALSCALE:GREGORIAN
BEGIN:VEVENT
DTSTART:20260508T190000Z
DTEND:20260508T200000Z
X-MICROSOFT-CDO-ALLDAYEVENT:FALSE
SUMMARY:Ribbon Cutting - Hampton Artisans Store
DESCRIPTION:Join us for a ribbon cutting to welcome our new member - Hampton Artisans Store!
X-ALT-DESC;FMTTYPE=text/html:Join us for a ribbon cutting to welcome our new member - Hampton Artisans Store!
LOCATION:125 Ocean Blvd Unit 7 & 8 Hampton Beach\, NH
UID:e.3495.1399
SEQUENCE:3
DTSTAMP:20260423T101526Z
URL:https://business.hamptonchamber.com/events/details/ribbon-cutting-hampton-artisans-store-1399
END:VEVENT

END:VCALENDAR
