BEGIN:VCALENDAR
VERSION:2.0
PRODID:-//ChamberMaster//Event Calendar 2.0//EN
METHOD:PUBLISH
X-PUBLISHED-TTL:P3D
REFRESH-INTERVAL:P3D
CALSCALE:GREGORIAN
BEGIN:VEVENT
DTSTART:20260429T160000Z
DTEND:20260429T170000Z
X-MICROSOFT-CDO-ALLDAYEVENT:FALSE
SUMMARY:Chamber 101\, Making the Most of Your Chamber Membership
DESCRIPTION:You are invited to join us for our Chamber 101 Program! Do you wish you got more out of your Chamber membership? Would you like more ways to connect with other Chamber members? Do you want to share and see news\, job openings\, and deals from other members? Then this is the program for you. Chamber Staff\, Gianna and Amanda\, will spend 45 minutes walking through the Member Information Center and all of the things that are included with your Chamber membership\, some you may not even know are available. \n\n\n\nThose who are unable to attend this Chamber 101 session\, we invite you to still sign up. Following the session\, we will share the recording with all registered attendees. There will be more sessions of this in the future depending on member interest and engagement.
X-ALT-DESC;FMTTYPE=text/html:You are invited to join us for our Chamber 101 Program! Do you wish you got more out of your Chamber membership? Would you like more ways to connect with other Chamber members? Do you want to share and see news\, job openings\, and deals from other members? Then this is the program for you. Chamber Staff\, Gianna and Amanda\, will spend 45 minutes walking through the Member Information Center and all of the things that are included with your Chamber membership\, some you may not even know are available.&nbsp\;<br />\n<br />\nThose who are unable to attend this Chamber 101 session\, we invite you to still sign up. Following the session\, we will share the recording with all registered attendees. There will be more sessions of this in the future depending on member interest and engagement.&nbsp\;
LOCATION:Virtual\, via Zoom. John Nyhan is inviting you to a scheduled Zoom meeting. Topic: Chamber 101\, Making the Most of Your Chamber Membership Time: Apr 29\, 2026 12:00 PM Eastern Time (US and Canada) Join Zoom Meeting https://us02web.zoom.us/j/82774606025 Meeting ID: 827 7460 6025 --- One tap mobile +13052241968\,\,82774606025# US +13092053325\,\,82774606025# US Join instructions https://us02web.zoom.us/meetings/82774606025/invitations?signature=XOazUvjU1pjeUIqweGMSDSeIlUTsm75ZCcFbcvmtNnM
UID:e.3495.1384
SEQUENCE:3
DTSTAMP:20260422T090400Z
URL:https://business.hamptonchamber.com/events/details/chamber-101-making-the-most-of-your-chamber-membership-1384
END:VEVENT

END:VCALENDAR
