BEGIN:VCALENDAR
VERSION:2.0
PRODID:-//ChamberMaster//Event Calendar 2.0//EN
METHOD:PUBLISH
X-PUBLISHED-TTL:P3D
REFRESH-INTERVAL:P3D
CALSCALE:GREGORIAN
BEGIN:VEVENT
DTSTART:20261021T210000Z
DTEND:20261021T230000Z
X-MICROSOFT-CDO-ALLDAYEVENT:FALSE
SUMMARY:Business After Hours - The Old Salt
DESCRIPTION:Business After Hours is an excellent networking opportunity for Chamber members\, friends\, and colleagues.  \n\n\n\nHost: The Old Salt\n\nSponsor: Guardian Angel Senior Services
X-ALT-DESC;FMTTYPE=text/html:Business After Hours is an excellent networking opportunity for Chamber members\, friends\, and colleagues.&nbsp\;&nbsp\;<br />\n<br />\nHost: The Old Salt<br />\nSponsor: Guardian Angel Senior Services<br />\n&nbsp\;
LOCATION:490 Lafayette Road Hampton\, NH 03842
UID:e.3495.1392
SEQUENCE:3
DTSTAMP:20260420T150753Z
URL:https://business.hamptonchamber.com/events/details/business-after-hours-the-old-salt-1392
END:VEVENT

END:VCALENDAR
