BEGIN:VCALENDAR
VERSION:2.0
PRODID:-//ChamberMaster//Event Calendar 2.0//EN
METHOD:PUBLISH
X-PUBLISHED-TTL:P3D
REFRESH-INTERVAL:P3D
CALSCALE:GREGORIAN
BEGIN:VEVENT
DTSTART:20261118T220000Z
DTEND:20261119T000000Z
X-MICROSOFT-CDO-ALLDAYEVENT:FALSE
SUMMARY:Business After Hours - Charlie's Tap House
DESCRIPTION:Business After Hours is an excellent networking opportunity for Chamber members\, friends\, and colleagues.  \n\n\n\nHost: Charlie's Tap House\n\nSponsor: Kennebunk Savings\n\nNon-Profit of the Month: Annie's Angels
X-ALT-DESC;FMTTYPE=text/html:Business After Hours is an excellent networking opportunity for Chamber members\, friends\, and colleagues.&nbsp\;&nbsp\;<br />\n<br />\nHost: Charlie&#39\;s Tap House<br />\nSponsor: Kennebunk Savings<br />\nNon-Profit of the Month: Annie&#39\;s Angels<br />\n&nbsp\;
LOCATION:9A Ocean Blvd Hampton\, NH 03842
UID:e.3495.1394
SEQUENCE:3
DTSTAMP:20260420T164429Z
URL:https://business.hamptonchamber.com/events/details/business-after-hours-charlie-s-tap-house-1394
END:VEVENT

END:VCALENDAR
