BEGIN:VCALENDAR
VERSION:2.0
PRODID:-//ChamberMaster//Event Calendar 2.0//EN
METHOD:PUBLISH
X-PUBLISHED-TTL:P3D
REFRESH-INTERVAL:P3D
CALSCALE:GREGORIAN
BEGIN:VEVENT
DTSTART:20261216T220000Z
DTEND:20261217T000000Z
X-MICROSOFT-CDO-ALLDAYEVENT:FALSE
SUMMARY:Business After Hours - 9 Dragons Restaurant
DESCRIPTION:Business After Hours is an excellent networking opportunity for Chamber members\, friends\, and colleagues.  \n\n\n\nHost: 9 Dragons Restaurant\n\nSponsor: Blue Water Mortgage
X-ALT-DESC;FMTTYPE=text/html:Business After Hours is an excellent networking opportunity for Chamber members\, friends\, and colleagues.&nbsp\;&nbsp\;<br />\n<br />\nHost: 9 Dragons Restaurant<br />\nSponsor: Blue Water Mortgage<br />\n<br />\n&nbsp\;
LOCATION:319 New Zealand Rd Seabrook\, NH 03874
UID:e.3495.1396
SEQUENCE:3
DTSTAMP:20260420T183342Z
URL:https://business.hamptonchamber.com/events/details/business-after-hours-9-dragons-restaurant-1396
END:VEVENT

END:VCALENDAR
