BEGIN:VCALENDAR
VERSION:2.0
PRODID:-//ChamberMaster//Event Calendar 2.0//EN
METHOD:PUBLISH
X-PUBLISHED-TTL:P3D
REFRESH-INTERVAL:P3D
CALSCALE:GREGORIAN
BEGIN:VEVENT
DTSTART:20261008T120000Z
DTEND:20261008T130000Z
X-MICROSOFT-CDO-ALLDAYEVENT:FALSE
SUMMARY:AM Coffee Connection - Tuck Museum
DESCRIPTION:Start the day with some networking and conversation at our AM Coffee Connection hosted by the Hampton Historical Society at Tuck Museum!
X-ALT-DESC;FMTTYPE=text/html:<span style="font-size:12px\;"><span style="font-family:arial\;">Start the day with some networking and conversation at our AM Coffee Connection hosted by the Hampton Historical Society at Tuck Museum!&nbsp\;</span></span>\n<div>&nbsp\;</div>\n
LOCATION:
UID:e.3495.1391
SEQUENCE:3
DTSTAMP:20260420T151410Z
URL:https://business.hamptonchamber.com/events/details/am-coffee-connection-tuck-museum-1391
END:VEVENT

END:VCALENDAR
