BEGIN:VCALENDAR
VERSION:2.0
PRODID:-//ChamberMaster//Event Calendar 2.0//EN
METHOD:PUBLISH
X-PUBLISHED-TTL:P3D
REFRESH-INTERVAL:P3D
CALSCALE:GREGORIAN
BEGIN:VEVENT
DTSTART:20261112T130000Z
DTEND:20261112T140000Z
X-MICROSOFT-CDO-ALLDAYEVENT:FALSE
SUMMARY:AM Coffee Connection - Drinkwater Flowers
DESCRIPTION:Start the day with some networking and conversation at our AM Coffee Connection at Drinkwater Flowers!
X-ALT-DESC;FMTTYPE=text/html:<span style="font-size:12px\;"><span style="font-family:arial\;">Start the day with some networking and conversation at our AM Coffee Connection at Drinkwater Flowers!&nbsp\;</span></span>\n\n<div>&nbsp\;</div>\n
LOCATION:819 Lafayette Rd Hampton\, NH
UID:e.3495.1393
SEQUENCE:3
DTSTAMP:20260420T170238Z
URL:https://business.hamptonchamber.com/events/details/am-coffee-connection-partridge-house-1393
END:VEVENT

END:VCALENDAR
